BEGIN:VCALENDAR
VERSION:2.0
PRODID:-//PYVOBJECT//NONSGML Version 0.9.9//EN
X-WR-TIMEZONE:Africa/Johannesburg
BEGIN:VTIMEZONE
TZID:Africa/Johannesburg
BEGIN:STANDARD
DTSTART:20000101T000000
RRULE:FREQ=YEARLY;BYMONTH=1
TZNAME:SAST
TZOFFSETFROM:+0200
TZOFFSETTO:+0200
END:STANDARD
END:VTIMEZONE
BEGIN:VEVENT
UID:20260421T171056Z - 82365@eos-content
DTSTART;TZID=Africa/Johannesburg:20260425T140000
DTEND;TZID=Africa/Johannesburg:20260425T170000
ATTENDEE:MAILTO:sharona@myzimbali.co.za
DESCRIPTION:https://sales.zimbali.co.za/results/residential/for-sale/ballit
 o/zimbali-lakes-resort/apartment/3145400/215-boulevard-suites-319-albizia-
 drive/\n\nZIMBALI LAKES RESORT\nSALES OFFICE\n500 ZIMBALI LAKES DRIVE'\nM4
 \n\nSharona Ramsundra (0659375548)
DTSTAMP:20260421T171056Z
LOCATION:215 Boulevard Suites\, 319 Albizia Drive\, Zimbali Lakes Resort\, 
 Ballito
SUMMARY:Zimbali Sales Show Day - RL1640
END:VEVENT
END:VCALENDAR
