BEGIN:VCALENDAR
VERSION:2.0
PRODID:-//PYVOBJECT//NONSGML Version 0.9.9//EN
X-WR-TIMEZONE:Africa/Johannesburg
BEGIN:VTIMEZONE
TZID:Africa/Johannesburg
BEGIN:STANDARD
DTSTART:20000101T000000
RRULE:FREQ=YEARLY;BYMONTH=1
TZNAME:SAST
TZOFFSETFROM:+0200
TZOFFSETTO:+0200
END:STANDARD
END:VTIMEZONE
BEGIN:VEVENT
UID:20260423T132215Z - 45663@eos-content
DTSTART;TZID=Africa/Johannesburg:20260425T100000
DTEND;TZID=Africa/Johannesburg:20260425T150000
ATTENDEE:MAILTO:sharona@myzimbali.co.za
DESCRIPTION:https://sales.zimbali.co.za/results/residential/for-sale/ballit
 o/zimbali-lakes-resort/vacant-land/3094119/\n\nZimbali Lakes Resort\nSales
  office\nM4\nBallito\n\nSharona Ramsundra (0659375548)
DTSTAMP:20260423T132215Z
LOCATION:Zimbali Lakes Resort\, Ballito
SUMMARY:Zimbali Sales Show Day - RL1631
END:VEVENT
END:VCALENDAR
